BEGIN:VCALENDAR
VERSION:2.0
PRODID:SchoolNow
CALSCALE:GREGORIAN
BEGIN:VEVENT
UID:859c20dc-3d1d-11ee-827b-0a58a9feac02
DTSTAMP:20240328T153110Z
SUMMARY:CDD Board Meeting Apr. 2024 - Cancelled
LOCATION:Little Harbor POA Clubhouse located at 611 Destiny Drive\, Ruskin\
 , Florida 33570.
URL;VALUE=URI:https://www.sbaycdd.org/calendar/4585605/cdd-board-meeting-ap
 r-2024
DTSTART:20240410T170000Z
DTEND:20240410T180000Z
END:VEVENT
END:VCALENDAR
